BEGIN:VCALENDAR
VERSION:2.0
PRODID:-//Grace Farms - ECPv6.15.17.1//NONSGML v1.0//EN
CALSCALE:GREGORIAN
METHOD:PUBLISH
X-WR-CALNAME:Grace Farms
X-ORIGINAL-URL:https://gracefarms.org
X-WR-CALDESC:Events for Grace Farms
REFRESH-INTERVAL;VALUE=DURATION:PT1H
X-Robots-Tag:noindex
X-PUBLISHED-TTL:PT1H
BEGIN:VTIMEZONE
TZID:America/New_York
BEGIN:DAYLIGHT
TZOFFSETFROM:-0500
TZOFFSETTO:-0400
TZNAME:EDT
DTSTART:20250309T070000
END:DAYLIGHT
BEGIN:STANDARD
TZOFFSETFROM:-0400
TZOFFSETTO:-0500
TZNAME:EST
DTSTART:20251102T060000
END:STANDARD
BEGIN:DAYLIGHT
TZOFFSETFROM:-0500
TZOFFSETTO:-0400
TZNAME:EDT
DTSTART:20260308T070000
END:DAYLIGHT
BEGIN:STANDARD
TZOFFSETFROM:-0400
TZOFFSETTO:-0500
TZNAME:EST
DTSTART:20261101T060000
END:STANDARD
BEGIN:DAYLIGHT
TZOFFSETFROM:-0500
TZOFFSETTO:-0400
TZNAME:EDT
DTSTART:20270314T070000
END:DAYLIGHT
BEGIN:STANDARD
TZOFFSETFROM:-0400
TZOFFSETTO:-0500
TZNAME:EST
DTSTART:20271107T060000
END:STANDARD
END:VTIMEZONE
BEGIN:VEVENT
DTSTART;TZID=America/New_York:20260307T133000
DTEND;TZID=America/New_York:20260307T143000
DTSTAMP:20260420T100607
CREATED:20250701T151606Z
LAST-MODIFIED:20250812T190618Z
UID:10009336-1772890200-1772893800@gracefarms.org
SUMMARY:Introduction to Permaculture Workshop
DESCRIPTION:Begin your Grace Farms Lecture experience with a Nature Workshop\, led by Grace Farms’ Director of Horticulture Kimberly Kelly designed to complement Dr. Robin Wall Kimmerer‘s lecture. \nExplore the basics of permaculture\, with a focus on rain gardens and bioswales\, and how you can apply the learnings in your own landscape.\n\nFollowing the workshop\, join us for a Grace Farms Lecture delivered by Robin Wall Kimmerer\, a writer of “rare grace” that offers powerful and poetic explorations of how human beings connect with nature and one another. Register
URL:https://gracefarms.org/event/workshop-nature
LOCATION:Grace Farms\, CT
CATEGORIES:Nature,Community,Arts,Faith,Justice,Tea & Coffee
ATTACH;FMTTYPE=image/png:https://gracefarms.org/wp-content/uploads/2024/11/Rain-Garden-Workshop.png
END:VEVENT
BEGIN:VEVENT
DTSTART;TZID=America/New_York:20260307T150000
DTEND;TZID=America/New_York:20260307T170000
DTSTAMP:20260420T100607
CREATED:20250501T185022Z
LAST-MODIFIED:20260305T163728Z
UID:10009275-1772895600-1772902800@gracefarms.org
SUMMARY:Grace Farms Lectures with Concert | Dr. Robin Wall Kimmerer
DESCRIPTION:This program is sold out. \nPlease note: On-site parking is limited. Once capacity is reached\, visitors will be directed to Oakridge Commons\, a nearby lot offering complimentary parking and shuttle service to Grace Farms. Shuttle service will also be available from the New Canaan Train Station. If you have accessibility needs or would like assistance planning your visit\, please contact us at info@gracefarms.org.  \nTickets for Grace Farms events are available exclusively through gracefarms.org. Grace Farms does not authorize the sale or resale of tickets through any third-party websites or vendors. Tickets purchased elsewhere are not guaranteed to be valid and may be refused entry. \n\n  \nJoin Dr. Robin Wall Kimmerer\, a writer of “rare grace\,” for her talk\, “What does the earth ask of us?” \nKimmerer weaves together indigenous wisdom\, science\, and profound spiritual insight to reimagine our connection to the living world. Drawing from her background as both a botanist and a member of the Citizen Potawatomi Nation\, Kimmerer invites all of us to understand ecological systems with gratitude\, mutual respect\, and interconnectedness\, allowing us to recognize the entire natural world as worthy of care. \nHer talk will be followed by a chamber music concert performed by a flute quartet featuring Alex Sopp\, flute; Simone Porter & Owen Dalby\, violins; Milena Pajaro-van de Stadt\, viola; and Arlen Hlusko\, cello. In response to Kimmerer’s work\, this musical program\, curated by Grace Farms Artist-in-Residence Arlen Hlusko\, features composers who often derive musical inspiration from their relationships with nature. \n\nSchedule: \n3 – 3:45 pm\nDr. Robin Wall Kimmerer delivers Grace Farms Lecture \n3:45 – 4 pm\nIntermission \n4 – 5 pm\nChamber Music Performance \n\nBegin your Grace Farms Lecture experience with a Permaculture Workshop\, led by Grace Farms’ Director of Horticulture Kimberly Kelly from 1:30 – 2:30 pm on Saturday\, March 7th. Register separately. \n  \nPlease note: On-site parking is limited. Once capacity is reached\, visitors will be directed to Oakridge Commons\, a nearby lot offering complimentary parking and shuttle service to Grace Farms. Shuttle service will also be available from the New Canaan Train Station. If you have accessibility needs or would like assistance planning your visit\, please contact us at info@gracefarms.org.  \n\n  \n\nAbout Dr. Robin Wall Kimmerer\n \nRobin Wall Kimmerer is a mother\, scientist\, decorated professor\, and enrolled member of the Citizen Potawatomi Nation. She is the author of The Serviceberry: Abundance and Reciprocity in the Natural World\, Braiding Sweetgrass: Indigenous Wisdom\, Scientific Knowledge and the Teachings of Plants and Gathering Moss: A Natural and Cultural History of Mosses. She lives in Syracuse\, New York\, where she is a SUNY Distinguished Teaching Professor of Environmental Biology\, and the founder and director of the Center for Native Peoples and the Environment.
URL:https://gracefarms.org/event/grace-farms-lectures-robin-wall-kimmerer
LOCATION:Grace Farms\, CT
CATEGORIES:Nature,Design for Freedom,Arts,Faith,Justice,Tea & Coffee
ATTACH;FMTTYPE=image/png:https://gracefarms.org/wp-content/uploads/2025/05/Lectures_winterweb2_MelaniLust.png
END:VEVENT
BEGIN:VEVENT
DTSTART;TZID=America/New_York:20260312T183000
DTEND;TZID=America/New_York:20260312T193000
DTSTAMP:20260420T100607
CREATED:20250502T142336Z
LAST-MODIFIED:20250716T151504Z
UID:10009236-1773340200-1773343800@gracefarms.org
SUMMARY:Mocktails
DESCRIPTION:Enjoy an evening of crafting and sipping delicious mocktails. Follow Chef Leah’s recipes to create three seasonal beverages from ingredients inspired by Grace Farms Tea & Coffee\, while discovering connections between food\, culture\, and community. \nCulinary Experiences with Chef Leah Jones offer educational and interactive explorations of the complex ways in which food intersects with our lives.
URL:https://gracefarms.org/event/mocktails-2/2026-03-12
LOCATION:Grace Farms\, CT
CATEGORIES:Community,Tea & Coffee
ATTACH;FMTTYPE=image/png:https://gracefarms.org/wp-content/uploads/2025/04/Spring-Summer-Mocktails-slider-1.png
END:VEVENT
BEGIN:VEVENT
DTSTART;TZID=America/New_York:20260313T150000
DTEND;TZID=America/New_York:20260313T163000
DTSTAMP:20260420T100607
CREATED:20250502T145836Z
LAST-MODIFIED:20250715T182114Z
UID:10009215-1773414000-1773419400@gracefarms.org
SUMMARY:Afternoon Tea
DESCRIPTION:Gather with friends in the glass-enclosed Pavilion to enjoy a pot of warm tea with an eye-catching assortment of delightful bites presented on a three-tier stand\, that fuse traditional English and Japanese flavors. Inspired by the elegance of English tea service\, this joyful afternoon of good conversation and great flavors is hosted by Grace Farms Pastry Chef and Educator Leah Jones and Tea Expert Frank Kwei.
URL:https://gracefarms.org/event/afternoon-tea-we-all-build/2026-03-13
LOCATION:Grace Farms\, CT
CATEGORIES:Community,Tea & Coffee
ATTACH;FMTTYPE=image/png:https://gracefarms.org/wp-content/uploads/2025/04/2025-2026-Afternoon-Tea-v1.png
END:VEVENT
BEGIN:VEVENT
DTSTART;TZID=America/New_York:20260314T103000
DTEND;TZID=America/New_York:20260314T120000
DTSTAMP:20260420T100607
CREATED:20250501T183231Z
LAST-MODIFIED:20250818T154805Z
UID:10010198-1773484200-1773489600@gracefarms.org
SUMMARY:Yoga and Movement with Pilin Anice
DESCRIPTION:Experience movement and music in the light-filled Court with renowned mindfulness and wellness expert\, Pilin Anice. This invigorating class takes participants through a breath-centered yoga practice while incorporating live music. \nThese movement and meditation classes are for ages 18+ up. Accessible for all levels\, no prior yoga or meditation experience is required. Participants may bring their own mats\, towels\, props\, and water.
URL:https://gracefarms.org/event/yoga-and-movement-with-pilin-anice-5/2026-03-14
LOCATION:Grace Farms\, CT
CATEGORIES:Community,Tea & Coffee
ATTACH;FMTTYPE=image/png:https://gracefarms.org/wp-content/uploads/2025/04/Yoga-and-Movement-We-all-build-web.png
END:VEVENT
BEGIN:VEVENT
DTSTART;TZID=America/New_York:20260318T150000
DTEND;TZID=America/New_York:20260318T163000
DTSTAMP:20260420T100607
CREATED:20250501T181330Z
LAST-MODIFIED:20250501T181330Z
UID:10009280-1773846000-1773851400@gracefarms.org
SUMMARY:Journey into the World of Tea | Oolong and Pu-erhs
DESCRIPTION:Explore the fascinating world of oolongs and pu-erh\, tasting samples of green oolongs\, dark oolongs\, and compare the stark differences between a raw and a cooked pu-erh. \nLed by Tea Expert Frank Kwei\, this tranquil and in-depth exploration of tea offers guests a taste of notable varietals from cultures around the world\, with demonstrations and more. \n  \nAbout Frank Kwei\nFrank currently serves in the role of Tea Expert and Educator focusing on special projects and tea programs at Grace Farms. He has been with Grace Farms Foundation since its inception\, starting as the Director of Hospitality where he served as a welcoming ambassador for Grace Farms. In that role\, he often provided a first introduction to Grace Farms and its work by pausing over tea in the Pavilion\, a reflective space in the River building with 360-degree views of natural landscapes. \nIn his current role\, Frank is Grace Farms’ resident Tea Expert\, where he welcomes the public with a simple cup of tea and invites them into a deeper appreciation of the intentionality of SANAA’s architecture and the impact of the Foundation’s work to advance good in the world. \nBefore joining Grace Farms\, Frank co-founded and managed a boutique tea company based in Brooklyn\, New York\, and spent several years focused on the sourcing and supply chains for tea ingredients. Frank has brought that experience to the Foundation’s work on ethical and sustainable supply chains across sectors\, including tea\, coffee\, food\, and architecture. Frank hosts a wide variety of tea education programs on the vast world of tea\, its history\, and on the ethical and sustainable production of tea and coffee. This serves as a critical entry point to educating people about ethical and sustainable supply chains in other fields.
URL:https://gracefarms.org/event/journey-into-the-world-of-tea-oolong-and-pu-erhs/2026-03-18
LOCATION:Grace Farms\, CT
CATEGORIES:Community,Tea & Coffee
ATTACH;FMTTYPE=image/png:https://gracefarms.org/wp-content/uploads/2024/11/Journey-into-the-World-of-Tea-2025-tea-101.png
END:VEVENT
BEGIN:VEVENT
DTSTART;TZID=America/New_York:20260321T103000
DTEND;TZID=America/New_York:20260321T120000
DTSTAMP:20260420T100607
CREATED:20260109T132600Z
LAST-MODIFIED:20260109T135249Z
UID:10009294-1774089000-1774094400@gracefarms.org
SUMMARY:Move with Grace Farms x lululemon | Barre with Danielle Aviezer
DESCRIPTION:This 45-minute class is a no-impact class\, without a barre\, focused on flexibility and total body strengthening. This unique method blends components of ballet\, yoga\, and Pilates. \nMove with Grace Farms x lululemon is a series of monthly movement classes hosted in partnership with local lululemon ambassadors. These classes\, for all levels of experience\, focus on restoring and igniting the energy needed to live a more balanced life. To enhance the wellness experience\, each class includes a cup of tea from Grace Farms Tea & Coffee\, a Certified B Corp\, picked specifically to complement the movement. \n\nAbout Danielle Aviezer\n \n  \nDanielle Aviezer is the Co-Owner and Fitness Manager at Thrive Barre & Fitness in Pelham\, NY. She has a BFA in Dance from University of the Arts in Philadelphia. She has been teaching barre for nearly 20 years throughout NYC\, Westchester and Greenwich\, CT and was trained by instructors from the original Lotte Berk Method. Danielle is a wife and a proud mother of three. \n 
URL:https://gracefarms.org/event/move-with-grace-farms-x-lululemon-2-5
LOCATION:Grace Farms\, CT
CATEGORIES:Community,Tea & Coffee
ATTACH;FMTTYPE=image/png:https://gracefarms.org/wp-content/uploads/2024/04/Danielle-August-Barre2.png
END:VEVENT
END:VCALENDAR