BEGIN:VCALENDAR
VERSION:2.0
PRODID:-//Grace Farms - ECPv6.15.17.1//NONSGML v1.0//EN
CALSCALE:GREGORIAN
METHOD:PUBLISH
X-ORIGINAL-URL:https://gracefarms.org
X-WR-CALDESC:Events for Grace Farms
REFRESH-INTERVAL;VALUE=DURATION:PT1H
X-Robots-Tag:noindex
X-PUBLISHED-TTL:PT1H
BEGIN:VTIMEZONE
TZID:America/New_York
BEGIN:DAYLIGHT
TZOFFSETFROM:-0500
TZOFFSETTO:-0400
TZNAME:EDT
DTSTART:20250309T070000
END:DAYLIGHT
BEGIN:STANDARD
TZOFFSETFROM:-0400
TZOFFSETTO:-0500
TZNAME:EST
DTSTART:20251102T060000
END:STANDARD
BEGIN:DAYLIGHT
TZOFFSETFROM:-0500
TZOFFSETTO:-0400
TZNAME:EDT
DTSTART:20260308T070000
END:DAYLIGHT
BEGIN:STANDARD
TZOFFSETFROM:-0400
TZOFFSETTO:-0500
TZNAME:EST
DTSTART:20261101T060000
END:STANDARD
BEGIN:DAYLIGHT
TZOFFSETFROM:-0500
TZOFFSETTO:-0400
TZNAME:EDT
DTSTART:20270314T070000
END:DAYLIGHT
BEGIN:STANDARD
TZOFFSETFROM:-0400
TZOFFSETTO:-0500
TZNAME:EST
DTSTART:20271107T060000
END:STANDARD
END:VTIMEZONE
BEGIN:VEVENT
DTSTART;TZID=America/New_York:20260425T100000
DTEND;TZID=America/New_York:20260425T170000
DTSTAMP:20260420T014314
CREATED:20250501T182507Z
LAST-MODIFIED:20260406T155127Z
UID:10009242-1777111200-1777136400@gracefarms.org
SUMMARY:Earth Day
DESCRIPTION:Join us for our 10th annual Earth Day! \nThis fun-filled day offers hands-on activities\, art engagements inspired by nature\, and endless opportunities for interactive learning. Responding to the work of Potawatomi botanist and author\, Dr. Robin Wall Kimmerer\, who delivers a Grace Farms Lecture in March\, as well as our season’s theme\, We all build\, Earth Day invites you to explore how architecture and connection to the natural world can inspire communities to build and thrive together. \nLearn more about our full schedule of family-friendly experiences hosted throughout the River building and Barns\, and surrounding landscape: \n10 am – 12 pm\nBirdwatching\nCourt Mezzanine\nOver 144 different bird species have been sighted at Grace Farms! Join an expert birder to see and learn about the different species that call Grace Farms home. \n10 am – 4 pm\nOpen Arts Studio | Landscape Collage\nArts Studio\nTaking inspiration from the Plaza’s new seating\, Dancing Trees by Kazuyo Sejima & Associates\, and the freshly sprouting lawn\, design an outdoor space incorporating structures\, plants\, color\, texture\, and wildlife. \n11 am – 4 pm\nMagnifying Small Wonders and Seed Bar\nEast Barn Hall\nExplore the unique characteristics of seeds up close using digital scope and microscopes\, then create a mix to take home\, using seeds harvested onsite. \n12 pm & 3 pm\nAnimal Embassy\nWest Barn Hall\nJoin Animal Embassy to learn about their role as animal rescuers as well as their program\, Heroes of the Animal Kingdom — and discover some incredible facts about a variety of animals! \n1 & 4 pm\nBeneficial Bugs with Educator Patrice Anibal\nLibrary \n2 pm\nNature Talk with Horticulture Specialist Michael Poulin\nEducation Path \n3 – 5 pm\nMocktails with Tea Expert Frank Kwei\nPavilion\nTake a break from exploring to sip a delicious tea-based mocktail with Tea Expert Frank Kwei! Surrounded by 360-degree views of the landscape\, enjoy a special mocktail inspired by this year’s Earth Day themes. \nAvailable All Day\nNature Resources in the Library\nWalking trails\nWith Every Fiber Exhibit in the West Barn\nFamily-Friendly Games in the Court\nBirdwatch Bingo\nLetter Sticks\nMap
URL:https://gracefarms.org/event/we-all-build-earth-day
LOCATION:Grace Farms\, CT
CATEGORIES:Nature,Community,Design for Freedom,Faith,Justice,Member,Tea & Coffee,Tours,Children & Families,Architecture,Pop-up Talks
ATTACH;FMTTYPE=image/png:https://gracefarms.org/wp-content/uploads/2025/04/2026-Earth-Day.png
END:VEVENT
BEGIN:VEVENT
DTSTART;TZID=America/New_York:20260613T110000
DTEND;TZID=America/New_York:20260613T120000
DTSTAMP:20260420T014314
CREATED:20260205T170422Z
LAST-MODIFIED:20260205T170517Z
UID:10011346-1781348400-1781352000@gracefarms.org
SUMMARY:Summer Stroll
DESCRIPTION:Take a guided walk through the Grace Farms landscape to experience the beauty of summer in full bloom. Immersive and laid-back\, this walk invites you to notice the shifting signs of the season and discover the vibrant plant and animal life that makes this landscape so special. Along the way\, explore the purpose and interconnectedness of surrounding ecosystems\, and consider our role in sustaining and enriching them. \nThis walk includes uneven terrain not suitable for strollers\, wheelchairs\, or walkers. Please dress accordingly. Walk begins promptly at 11 am. Please arrive at least five minutes beforehand. Rain or shine.
URL:https://gracefarms.org/event/summer-stroll/2026-06-13
LOCATION:Grace Farms\, CT
CATEGORIES:Nature
ATTACH;FMTTYPE=image/jpeg:https://gracefarms.org/wp-content/uploads/2026/02/Summer-Stroll-2026-web.jpg
END:VEVENT
BEGIN:VEVENT
DTSTART;TZID=America/New_York:20260620T103000
DTEND;TZID=America/New_York:20260620T120000
DTSTAMP:20260420T014314
CREATED:20260212T153108Z
LAST-MODIFIED:20260212T153506Z
UID:10011355-1781951400-1781956800@gracefarms.org
SUMMARY:Learning with Nature | Tomato Loves Basil
DESCRIPTION:Discover the delicious world of tomatoes — from heirlooms to hybrids — and learn which varieties will thrive best in your garden. Grace Farms Horticulture Specialist Michael Poulin will share his favorite picks and provide expert growing tips including all you need to know about planting\, pruning\, and harvesting at peak flavor. \nCap off the experience with a small seasonal treat of a caprese skewer\, then take home your choice of a tomato or basil plant to jump-start your summer garden. \nThis program takes place rain or shine; please dress comfortably for time spent both indoors and outdoors.
URL:https://gracefarms.org/event/learning-with-nature-tomato-loves-basil
LOCATION:Grace Farms\, CT
CATEGORIES:Nature
ATTACH;FMTTYPE=image/png:https://gracefarms.org/wp-content/uploads/2026/02/Tomato-Loves-Basil-web.png
END:VEVENT
BEGIN:VEVENT
DTSTART;TZID=America/New_York:20260627T100000
DTEND;TZID=America/New_York:20260627T140000
DTSTAMP:20260420T014314
CREATED:20260309T144100Z
LAST-MODIFIED:20260309T144830Z
UID:10011420-1782554400-1782568800@gracefarms.org
SUMMARY:Photography Intensive with James Florio
DESCRIPTION:How does photography dissolve the boundaries between building and landscape? \nJoin Grace Farms Artist-in-Residence and renowned photographer James Florio for an immersive four-hour photography intensive that deepens your ability to see — and capture — the relationship between land\, light\, and architecture. \nThis extended session includes lunch in the glass-enclosed Commons\, offering time to reflect\, connect\, and continue learning in community. \nThrough a combination of guided instruction\, on-site exploration\, and thoughtful conversation\, investigate how form\, shadow\, and natural surroundings intersect across the River building and landscape. At the conclusion of the workshop\, print and review your photography with Florio. \nPlease bring your own camera.
URL:https://gracefarms.org/event/photography-intensive-with-james-florio
LOCATION:Grace Farms\, CT
CATEGORIES:Nature,Arts,Architecture
ATTACH;FMTTYPE=image/jpeg:https://gracefarms.org/wp-content/uploads/2026/03/Photography-Intensive_opt2.jpg
END:VEVENT
BEGIN:VEVENT
DTSTART;TZID=America/New_York:20260707T100000
DTEND;TZID=America/New_York:20260707T120000
DTSTAMP:20260420T014314
CREATED:20260218T193440Z
LAST-MODIFIED:20260218T193440Z
UID:10011392-1783418400-1783425600@gracefarms.org
SUMMARY:Nature Studio for Children
DESCRIPTION:Discover the tiny wonders of nature! \nUsing a digital scope and projector\, look at monarch and white cabbage moth caterpillars\, ladybugs\, wildflowers\, and other small creatures in incredible\, larger-than-life detail. Children will love spotting colors\, patterns\, and movements not visible to the naked eye. \nWith friendly guidance from our Education Team\, families will discover how these little creatures help keep the Grace Farms ecosystem healthy. This fun\, hands-on exploration of the natural world is the perfect activity before or after walking the surrounding gardens and trails. Recommended for ages 4 – 11 with adult caregivers.
URL:https://gracefarms.org/event/nature-studio-for-children/2026-07-07
LOCATION:Grace Farms\, CT
CATEGORIES:Nature,Children & Families
ATTACH;FMTTYPE=image/jpeg:https://gracefarms.org/wp-content/uploads/2026/02/Nature-Studio-web.jpg
END:VEVENT
BEGIN:VEVENT
DTSTART;TZID=America/New_York:20260714T100000
DTEND;TZID=America/New_York:20260714T120000
DTSTAMP:20260420T014314
CREATED:20260218T193440Z
LAST-MODIFIED:20260218T193440Z
UID:10011393-1784023200-1784030400@gracefarms.org
SUMMARY:Nature Studio for Children
DESCRIPTION:Discover the tiny wonders of nature! \nUsing a digital scope and projector\, look at monarch and white cabbage moth caterpillars\, ladybugs\, wildflowers\, and other small creatures in incredible\, larger-than-life detail. Children will love spotting colors\, patterns\, and movements not visible to the naked eye. \nWith friendly guidance from our Education Team\, families will discover how these little creatures help keep the Grace Farms ecosystem healthy. This fun\, hands-on exploration of the natural world is the perfect activity before or after walking the surrounding gardens and trails. Recommended for ages 4 – 11 with adult caregivers.
URL:https://gracefarms.org/event/nature-studio-for-children/2026-07-14
LOCATION:Grace Farms\, CT
CATEGORIES:Nature,Children & Families
ATTACH;FMTTYPE=image/jpeg:https://gracefarms.org/wp-content/uploads/2026/02/Nature-Studio-web.jpg
END:VEVENT
BEGIN:VEVENT
DTSTART;TZID=America/New_York:20260718T103000
DTEND;TZID=America/New_York:20260718T120000
DTSTAMP:20260420T014314
CREATED:20260204T203142Z
LAST-MODIFIED:20260204T203142Z
UID:10011332-1784370600-1784376000@gracefarms.org
SUMMARY:Learning with Nature | Edimental Fruit Trees
DESCRIPTION:Transform your backyard into an edible landscape. Learn how to prepare\, plant\, and care for edimentals — ornamental plants that are also delicious. Focused on fruits that thrive locally\, including apples\, crabapples\, plums\, pears\, and peaches\, this hands-on workshop explores site selection\, varieties\, and seasonal care. \nAfterwards\, enjoy a fruit dessert bite and bring home a guide of recommended cultivators and varieties developed by the Grace Farms Horticulture Team. \nThis workshop takes place rain or shine. Please dress comfortably for time spent both indoors and outdoors. Not designed for strollers\, or people who are not independently mobile.
URL:https://gracefarms.org/event/learning-with-nature-edimental-fruit-trees
LOCATION:Grace Farms\, CT
CATEGORIES:Nature
ATTACH;FMTTYPE=image/png:https://gracefarms.org/wp-content/uploads/2026/02/Edimental-Trees-2-web_SCH.png
END:VEVENT
BEGIN:VEVENT
DTSTART;TZID=America/New_York:20260721T100000
DTEND;TZID=America/New_York:20260721T120000
DTSTAMP:20260420T014314
CREATED:20260218T193440Z
LAST-MODIFIED:20260218T193440Z
UID:10011394-1784628000-1784635200@gracefarms.org
SUMMARY:Nature Studio for Children
DESCRIPTION:Discover the tiny wonders of nature! \nUsing a digital scope and projector\, look at monarch and white cabbage moth caterpillars\, ladybugs\, wildflowers\, and other small creatures in incredible\, larger-than-life detail. Children will love spotting colors\, patterns\, and movements not visible to the naked eye. \nWith friendly guidance from our Education Team\, families will discover how these little creatures help keep the Grace Farms ecosystem healthy. This fun\, hands-on exploration of the natural world is the perfect activity before or after walking the surrounding gardens and trails. Recommended for ages 4 – 11 with adult caregivers.
URL:https://gracefarms.org/event/nature-studio-for-children/2026-07-21
LOCATION:Grace Farms\, CT
CATEGORIES:Nature,Children & Families
ATTACH;FMTTYPE=image/jpeg:https://gracefarms.org/wp-content/uploads/2026/02/Nature-Studio-web.jpg
END:VEVENT
BEGIN:VEVENT
DTSTART;TZID=America/New_York:20260725T110000
DTEND;TZID=America/New_York:20260725T120000
DTSTAMP:20260420T014315
CREATED:20260205T170422Z
LAST-MODIFIED:20260205T170517Z
UID:10011347-1784977200-1784980800@gracefarms.org
SUMMARY:Summer Stroll
DESCRIPTION:Take a guided walk through the Grace Farms landscape to experience the beauty of summer in full bloom. Immersive and laid-back\, this walk invites you to notice the shifting signs of the season and discover the vibrant plant and animal life that makes this landscape so special. Along the way\, explore the purpose and interconnectedness of surrounding ecosystems\, and consider our role in sustaining and enriching them. \nThis walk includes uneven terrain not suitable for strollers\, wheelchairs\, or walkers. Please dress accordingly. Walk begins promptly at 11 am. Please arrive at least five minutes beforehand. Rain or shine.
URL:https://gracefarms.org/event/summer-stroll/2026-07-25
LOCATION:Grace Farms\, CT
CATEGORIES:Nature
ATTACH;FMTTYPE=image/jpeg:https://gracefarms.org/wp-content/uploads/2026/02/Summer-Stroll-2026-web.jpg
END:VEVENT
BEGIN:VEVENT
DTSTART;TZID=America/New_York:20260728T100000
DTEND;TZID=America/New_York:20260728T120000
DTSTAMP:20260420T014315
CREATED:20260218T193440Z
LAST-MODIFIED:20260218T193440Z
UID:10011395-1785232800-1785240000@gracefarms.org
SUMMARY:Nature Studio for Children
DESCRIPTION:Discover the tiny wonders of nature! \nUsing a digital scope and projector\, look at monarch and white cabbage moth caterpillars\, ladybugs\, wildflowers\, and other small creatures in incredible\, larger-than-life detail. Children will love spotting colors\, patterns\, and movements not visible to the naked eye. \nWith friendly guidance from our Education Team\, families will discover how these little creatures help keep the Grace Farms ecosystem healthy. This fun\, hands-on exploration of the natural world is the perfect activity before or after walking the surrounding gardens and trails. Recommended for ages 4 – 11 with adult caregivers.
URL:https://gracefarms.org/event/nature-studio-for-children/2026-07-28
LOCATION:Grace Farms\, CT
CATEGORIES:Nature,Children & Families
ATTACH;FMTTYPE=image/jpeg:https://gracefarms.org/wp-content/uploads/2026/02/Nature-Studio-web.jpg
END:VEVENT
BEGIN:VEVENT
DTSTART;TZID=America/New_York:20260804T100000
DTEND;TZID=America/New_York:20260804T120000
DTSTAMP:20260420T014315
CREATED:20260218T193440Z
LAST-MODIFIED:20260218T193440Z
UID:10011396-1785837600-1785844800@gracefarms.org
SUMMARY:Nature Studio for Children
DESCRIPTION:Discover the tiny wonders of nature! \nUsing a digital scope and projector\, look at monarch and white cabbage moth caterpillars\, ladybugs\, wildflowers\, and other small creatures in incredible\, larger-than-life detail. Children will love spotting colors\, patterns\, and movements not visible to the naked eye. \nWith friendly guidance from our Education Team\, families will discover how these little creatures help keep the Grace Farms ecosystem healthy. This fun\, hands-on exploration of the natural world is the perfect activity before or after walking the surrounding gardens and trails. Recommended for ages 4 – 11 with adult caregivers.
URL:https://gracefarms.org/event/nature-studio-for-children/2026-08-04
LOCATION:Grace Farms\, CT
CATEGORIES:Nature,Children & Families
ATTACH;FMTTYPE=image/jpeg:https://gracefarms.org/wp-content/uploads/2026/02/Nature-Studio-web.jpg
END:VEVENT
BEGIN:VEVENT
DTSTART;TZID=America/New_York:20260808T110000
DTEND;TZID=America/New_York:20260808T120000
DTSTAMP:20260420T014315
CREATED:20260205T170422Z
LAST-MODIFIED:20260205T170517Z
UID:10011348-1786186800-1786190400@gracefarms.org
SUMMARY:Summer Stroll
DESCRIPTION:Take a guided walk through the Grace Farms landscape to experience the beauty of summer in full bloom. Immersive and laid-back\, this walk invites you to notice the shifting signs of the season and discover the vibrant plant and animal life that makes this landscape so special. Along the way\, explore the purpose and interconnectedness of surrounding ecosystems\, and consider our role in sustaining and enriching them. \nThis walk includes uneven terrain not suitable for strollers\, wheelchairs\, or walkers. Please dress accordingly. Walk begins promptly at 11 am. Please arrive at least five minutes beforehand. Rain or shine.
URL:https://gracefarms.org/event/summer-stroll/2026-08-08
LOCATION:Grace Farms\, CT
CATEGORIES:Nature
ATTACH;FMTTYPE=image/jpeg:https://gracefarms.org/wp-content/uploads/2026/02/Summer-Stroll-2026-web.jpg
END:VEVENT
BEGIN:VEVENT
DTSTART;TZID=America/New_York:20260811T100000
DTEND;TZID=America/New_York:20260811T120000
DTSTAMP:20260420T014315
CREATED:20260218T193440Z
LAST-MODIFIED:20260218T193440Z
UID:10011397-1786442400-1786449600@gracefarms.org
SUMMARY:Nature Studio for Children
DESCRIPTION:Discover the tiny wonders of nature! \nUsing a digital scope and projector\, look at monarch and white cabbage moth caterpillars\, ladybugs\, wildflowers\, and other small creatures in incredible\, larger-than-life detail. Children will love spotting colors\, patterns\, and movements not visible to the naked eye. \nWith friendly guidance from our Education Team\, families will discover how these little creatures help keep the Grace Farms ecosystem healthy. This fun\, hands-on exploration of the natural world is the perfect activity before or after walking the surrounding gardens and trails. Recommended for ages 4 – 11 with adult caregivers.
URL:https://gracefarms.org/event/nature-studio-for-children/2026-08-11
LOCATION:Grace Farms\, CT
CATEGORIES:Nature,Children & Families
ATTACH;FMTTYPE=image/jpeg:https://gracefarms.org/wp-content/uploads/2026/02/Nature-Studio-web.jpg
END:VEVENT
BEGIN:VEVENT
DTSTART;TZID=America/New_York:20260818T100000
DTEND;TZID=America/New_York:20260818T140000
DTSTAMP:20260420T014315
CREATED:20260203T201256Z
LAST-MODIFIED:20260303T201850Z
UID:10011327-1787047200-1787061600@gracefarms.org
SUMMARY:Summer Discovery Week
DESCRIPTION:Families are invited to explore the River Building and its surrounding habitats during this summer break program. Engage in a variety of activities inspired by the history of the landscape and our thriving\, biodiverse habitats. Recommend for ages 5+ with adult caregivers. \nSummer Discovery Week activities take place between 10 am and 2 pm from Tuesday\, August 18 through Friday\, August 21. Registration is free and included with daily admission.
URL:https://gracefarms.org/event/summer-passport-week-2026/2026-08-18
LOCATION:Grace Farms\, CT
CATEGORIES:Nature,Children & Families
ATTACH;FMTTYPE=image/png:https://gracefarms.org/wp-content/uploads/2026/02/2026-Summer-Passport-web_2.png
END:VEVENT
BEGIN:VEVENT
DTSTART;TZID=America/New_York:20260819T100000
DTEND;TZID=America/New_York:20260819T140000
DTSTAMP:20260420T014315
CREATED:20260203T201256Z
LAST-MODIFIED:20260303T201850Z
UID:10011328-1787133600-1787148000@gracefarms.org
SUMMARY:Summer Discovery Week
DESCRIPTION:Families are invited to explore the River Building and its surrounding habitats during this summer break program. Engage in a variety of activities inspired by the history of the landscape and our thriving\, biodiverse habitats. Recommend for ages 5+ with adult caregivers. \nSummer Discovery Week activities take place between 10 am and 2 pm from Tuesday\, August 18 through Friday\, August 21. Registration is free and included with daily admission.
URL:https://gracefarms.org/event/summer-passport-week-2026/2026-08-19
LOCATION:Grace Farms\, CT
CATEGORIES:Nature,Children & Families
ATTACH;FMTTYPE=image/png:https://gracefarms.org/wp-content/uploads/2026/02/2026-Summer-Passport-web_2.png
END:VEVENT
BEGIN:VEVENT
DTSTART;TZID=America/New_York:20260820T100000
DTEND;TZID=America/New_York:20260820T140000
DTSTAMP:20260420T014315
CREATED:20260203T201256Z
LAST-MODIFIED:20260303T201850Z
UID:10011329-1787220000-1787234400@gracefarms.org
SUMMARY:Summer Discovery Week
DESCRIPTION:Families are invited to explore the River Building and its surrounding habitats during this summer break program. Engage in a variety of activities inspired by the history of the landscape and our thriving\, biodiverse habitats. Recommend for ages 5+ with adult caregivers. \nSummer Discovery Week activities take place between 10 am and 2 pm from Tuesday\, August 18 through Friday\, August 21. Registration is free and included with daily admission.
URL:https://gracefarms.org/event/summer-passport-week-2026/2026-08-20
LOCATION:Grace Farms\, CT
CATEGORIES:Nature,Children & Families
ATTACH;FMTTYPE=image/png:https://gracefarms.org/wp-content/uploads/2026/02/2026-Summer-Passport-web_2.png
END:VEVENT
BEGIN:VEVENT
DTSTART;TZID=America/New_York:20260820T100000
DTEND;TZID=America/New_York:20260820T140000
DTSTAMP:20260420T014315
CREATED:20260219T203229Z
LAST-MODIFIED:20260219T203230Z
UID:10011399-1787220000-1787234400@gracefarms.org
SUMMARY:Magnifying Small Wonders
DESCRIPTION:Sometimes\, the tiniest insects play the biggest role in our ecosystem! \nDiscover the hidden world of caterpillars\, butterflies\, and other extraordinary insects that call Grace Farms home. Families are invited to use powerful magnifying tools\, field equipment\, and high-resolution micrography to get a closer look at the extraordinary natural world around us. \nRecommended for ages 5+ with adult caregivers.
URL:https://gracefarms.org/event/magnifying-small-wonders-2
LOCATION:Grace Farms\, CT
CATEGORIES:Nature,Children & Families
ATTACH;FMTTYPE=image/jpeg:https://gracefarms.org/wp-content/uploads/2026/02/Magnifying-Small-Wonders-web.jpg
END:VEVENT
BEGIN:VEVENT
DTSTART;TZID=America/New_York:20260821T100000
DTEND;TZID=America/New_York:20260821T140000
DTSTAMP:20260420T014315
CREATED:20260203T201256Z
LAST-MODIFIED:20260303T201850Z
UID:10011330-1787306400-1787320800@gracefarms.org
SUMMARY:Summer Discovery Week
DESCRIPTION:Families are invited to explore the River Building and its surrounding habitats during this summer break program. Engage in a variety of activities inspired by the history of the landscape and our thriving\, biodiverse habitats. Recommend for ages 5+ with adult caregivers. \nSummer Discovery Week activities take place between 10 am and 2 pm from Tuesday\, August 18 through Friday\, August 21. Registration is free and included with daily admission.
URL:https://gracefarms.org/event/summer-passport-week-2026/2026-08-21
LOCATION:Grace Farms\, CT
CATEGORIES:Nature,Children & Families
ATTACH;FMTTYPE=image/png:https://gracefarms.org/wp-content/uploads/2026/02/2026-Summer-Passport-web_2.png
END:VEVENT
BEGIN:VEVENT
DTSTART;TZID=America/New_York:20260822T103000
DTEND;TZID=America/New_York:20260822T123000
DTSTAMP:20260420T014315
CREATED:20260204T182016Z
LAST-MODIFIED:20260303T200100Z
UID:10011331-1787394600-1787401800@gracefarms.org
SUMMARY:Learning with Nature | Monarch Migration
DESCRIPTION:Join Grace Farms Horticulture Director Kimberly Kelly and experts from Kansas State University for a hands-on field study to safely record\, tag\, and release monarch butterflies throughout Grace Farms 80 acres of landscape. \nLearn how to net\, tag\, and record Monarchs in a way that supports the best outcome for healthy butterflies to survive migration\, winter\, the flight north in late spring\, and successful reproduction in late summer. This workshop ends with our a cup of our butterfly pea flower tea and a culinary treat in the Commons. \nOver the past few decades\, monarch butterfly populations have declined by close to 90%. As a participant of the Kansas State University’s Monarch Watch program\, Grace Farms has been working to increase the Monarch habitat and this summer we will be participating in the Monarch Watch tagging program. \nRecommended for ages 12 and up. Due to uneven terrain for the field portion of the workshop\, strollers\, walkers and wheelchairs are not recommended.
URL:https://gracefarms.org/event/learning-with-nature-monarch-migration
LOCATION:Grace Farms\, CT
CATEGORIES:Nature,Children & Families
ATTACH;FMTTYPE=image/jpeg:https://gracefarms.org/wp-content/uploads/2026/02/Monarch-Butterfly-Migration-26.jpg
END:VEVENT
BEGIN:VEVENT
DTSTART;TZID=America/New_York:20260825T100000
DTEND;TZID=America/New_York:20260825T120000
DTSTAMP:20260420T014315
CREATED:20260218T193440Z
LAST-MODIFIED:20260218T193440Z
UID:10011398-1787652000-1787659200@gracefarms.org
SUMMARY:Nature Studio for Children
DESCRIPTION:Discover the tiny wonders of nature! \nUsing a digital scope and projector\, look at monarch and white cabbage moth caterpillars\, ladybugs\, wildflowers\, and other small creatures in incredible\, larger-than-life detail. Children will love spotting colors\, patterns\, and movements not visible to the naked eye. \nWith friendly guidance from our Education Team\, families will discover how these little creatures help keep the Grace Farms ecosystem healthy. This fun\, hands-on exploration of the natural world is the perfect activity before or after walking the surrounding gardens and trails. Recommended for ages 4 – 11 with adult caregivers.
URL:https://gracefarms.org/event/nature-studio-for-children/2026-08-25
LOCATION:Grace Farms\, CT
CATEGORIES:Nature,Children & Families
ATTACH;FMTTYPE=image/jpeg:https://gracefarms.org/wp-content/uploads/2026/02/Nature-Studio-web.jpg
END:VEVENT
END:VCALENDAR