BEGIN:VCALENDAR
VERSION:2.0
PRODID:-//Grace Farms - ECPv6.15.17.1//NONSGML v1.0//EN
CALSCALE:GREGORIAN
METHOD:PUBLISH
X-ORIGINAL-URL:https://gracefarms.org
X-WR-CALDESC:Events for Grace Farms
REFRESH-INTERVAL;VALUE=DURATION:PT1H
X-Robots-Tag:noindex
X-PUBLISHED-TTL:PT1H
BEGIN:VTIMEZONE
TZID:America/New_York
BEGIN:DAYLIGHT
TZOFFSETFROM:-0500
TZOFFSETTO:-0400
TZNAME:EDT
DTSTART:20240310T070000
END:DAYLIGHT
BEGIN:STANDARD
TZOFFSETFROM:-0400
TZOFFSETTO:-0500
TZNAME:EST
DTSTART:20241103T060000
END:STANDARD
BEGIN:DAYLIGHT
TZOFFSETFROM:-0500
TZOFFSETTO:-0400
TZNAME:EDT
DTSTART:20250309T070000
END:DAYLIGHT
BEGIN:STANDARD
TZOFFSETFROM:-0400
TZOFFSETTO:-0500
TZNAME:EST
DTSTART:20251102T060000
END:STANDARD
BEGIN:DAYLIGHT
TZOFFSETFROM:-0500
TZOFFSETTO:-0400
TZNAME:EDT
DTSTART:20260308T070000
END:DAYLIGHT
BEGIN:STANDARD
TZOFFSETFROM:-0400
TZOFFSETTO:-0500
TZNAME:EST
DTSTART:20261101T060000
END:STANDARD
END:VTIMEZONE
BEGIN:VEVENT
DTSTART;TZID=America/New_York:20251213T153000
DTEND;TZID=America/New_York:20251213T163000
DTSTAMP:20260419T211655
CREATED:20250623T163441Z
LAST-MODIFIED:20251212T142909Z
UID:10009263-1765639800-1765643400@gracefarms.org
SUMMARY:Music at Grace Farms | Broadway Inspirational Voices Christmas Concert
DESCRIPTION:Broadway Inspirational Voices returns to Grace Farms with a site-responsive program that connects us with the presence of the human voice to inspire the audience toward joy. The one-hour program features a holiday repertoire developed for Grace Farms by Connecticut native Allen René Louis\, Broadway Inspirational Voices Artistic Director and GRAMMY®-nominated Creative Director and Producer. \n60 minute performance. No intermission. Doors open at 1 pm. \nTickets include entry to the Grace Farms Holiday Market\, a special pop-up featuring a curated selection of meaningful gifts that give back. Browse art sets\, toys and treats\, cozy mugs\, teas and coffees\, inspiring books\, and Grace Farms favorites like notecards and memberships. Discover handmade ornaments and embroidered works by Nasreen Sheikh and the Empowerment Collective\, supporting dignified work for women artisans worldwide. \n  \nAbout Broadway Inspirational Voices\nBroadway Inspirational Voices is a diverse choir and service organization powered by Broadway artists using music to inspire hope and change lives. \nIn 1994 more than 32\,000 people died from AIDS or AIDS-related complications in the U.S. Many of those deaths came from within the Broadway community. As Broadway grappled with the loss of an entire generation of artists\, Tony and Grammy-nominated Michael McElroy (founder of the Broadway Inspirational Voices) saw in the community a profound need for hope\, unity\, and inspiration. He envisioned an organization where professional artists would come together and volunteer their gift to provide comfort\, joy\, and the promise of a better day–and as a result\, The Broadway Gospel Choir was born. This magical synergy of authentic Gospel soul and Broadway bravura was re-imagined as the Broadway Inspirational Voices in 1999 and they have been the theatre community’s center of support and celebration ever since. In 2019\, The Tony Awards Administration Committee presented the Tony Honors for Excellence in the Theatre to four outstanding contributors to the Broadway industry\, and Broadway Inspirational Voices was a recipient. The Tony Honor was a resounding endorsement of Broadway Inspirational Voices’s enduring work and impact and in celebration of 25 years of service. In 2020\, McElroy hand picked composer/singer Allen René Louis to become the new Artistic Director for Broadway Inspirational Voices. Broadway Inspirational Voices’s diverse membership has represented over 140 Broadway shows since its inception. \n  \nKnow Before You Go\nPlease review the day-of details below to help you plan your visit: \n \n  \nMusic at Grace Farms\nExperience Grace Farms’ distinctive\, daylit acoustic music performances in the glass-enclosed Sanctuary\, against the backdrop of 80 acres of natural landscapes. Season highlights include a recital by internationally acclaimed cellist and 19-time GRAMMY® winner Yo-Yo Ma\, GRAMMY® Award-winning violinist Joshua Bell\, and a special recital by Grace Farms Artist-in-Residence and GRAMMY®-winning Canadian cellist Arlen Hlusko. \n  \nPre-Reception Menu\nDuring the Pre-Reception\, guests will enjoy \n\nTorched Apple Bruschetta with Fig\, Brie & Balsamic Reduction\nMini Latke with Apple Chutney & Crème Fraîche\nGoat Cheese Croquette with Spicy Quince Paste\nPortobello Risotto Arancini with Truffle Aioli\nAlaskan Salmon Cake with Lemon Caper Aioli\nDairy-free\, seasonal treats\n\nBeverages: \n\nChampagne\nHoliday Inspired Cocktail/Mocktail\nAssorted Tea Display\nBasic Beverage Service (coffee and water)\nCider\n\n  \nParking Information\nOn-site parking is reserved for our Pre-Reception ticetholders. Complimentary off-site parking will be provided at Oakridge Commons (600 Oakridge Commons South Salem\, NY\, 10590)\, with continuous shuttle service to and from Grace Farms beginning at 12:30 pm. \nComplimentary shuttles will also run from the New Canaan Train Station starting at 12:30 pm. \n  \nPlease note: Grace Farms will be closed on Saturday\, December 13th\, only accessible to ticketholders. The Commons will be closed except for Pre-Reception ticketholders.
URL:https://gracefarms.org/event/music-at-grace-farms-broadway-inspirational-voices
LOCATION:Grace Farms\, CT
CATEGORIES:Arts,Faith,Tea & Coffee,Music
ATTACH;FMTTYPE=image/gif:https://gracefarms.org/wp-content/uploads/2025/06/BIV-2025-Concert-2.gif
END:VEVENT
END:VCALENDAR