BEGIN:VCALENDAR
VERSION:2.0
PRODID:-//Grace Farms - ECPv6.15.17.1//NONSGML v1.0//EN
CALSCALE:GREGORIAN
METHOD:PUBLISH
X-ORIGINAL-URL:https://gracefarms.org
X-WR-CALDESC:Events for Grace Farms
REFRESH-INTERVAL;VALUE=DURATION:PT1H
X-Robots-Tag:noindex
X-PUBLISHED-TTL:PT1H
BEGIN:VTIMEZONE
TZID:America/New_York
BEGIN:DAYLIGHT
TZOFFSETFROM:-0500
TZOFFSETTO:-0400
TZNAME:EDT
DTSTART:20240310T070000
END:DAYLIGHT
BEGIN:STANDARD
TZOFFSETFROM:-0400
TZOFFSETTO:-0500
TZNAME:EST
DTSTART:20241103T060000
END:STANDARD
BEGIN:DAYLIGHT
TZOFFSETFROM:-0500
TZOFFSETTO:-0400
TZNAME:EDT
DTSTART:20250309T070000
END:DAYLIGHT
BEGIN:STANDARD
TZOFFSETFROM:-0400
TZOFFSETTO:-0500
TZNAME:EST
DTSTART:20251102T060000
END:STANDARD
BEGIN:DAYLIGHT
TZOFFSETFROM:-0500
TZOFFSETTO:-0400
TZNAME:EDT
DTSTART:20260308T070000
END:DAYLIGHT
BEGIN:STANDARD
TZOFFSETFROM:-0400
TZOFFSETTO:-0500
TZNAME:EST
DTSTART:20261101T060000
END:STANDARD
END:VTIMEZONE
BEGIN:VEVENT
DTSTART;TZID=America/New_York:20250913T150000
DTEND;TZID=America/New_York:20250913T160000
DTSTAMP:20260421T164757
CREATED:20250505T140812Z
LAST-MODIFIED:20250825T150845Z
UID:10009207-1757775600-1757779200@gracefarms.org
SUMMARY:Alicja Kwade | ParaPosition Sculpture
DESCRIPTION:2025-2026 season opener\nExperience the opening of ParaPosition\, a remarkable sculpture by Alicja Kwade\, made of slim interlocking steel frames supporting four boulders and a blue chair made of bronze\, in celebration of Grace Farms’ 10 Year. \nAt 3 pm\, Kwade will join Grace Farms’ Chief Strategic Officer and Founding Creative Director\, Chelsea Thatcher\, for a conversation about her inspiration and the sculpture’s dialogue with our site and mission. \nAbout ParaPosition: \nParaPosition’s array of steel and stone draws viewers into the frame of this massive\, yet fragile\, universe. The substantial stones\, with their immense weight\, appear to defy gravity in an almost weightless balancing act. The chair beckons viewers to reflect on our relationship with the world and contemplate the fundamental nature of our existence. \n  \n“Alicja Kwade is approaching themes about society and human flourishing in the same spirit as we are at Grace Farms Foundation — imploring us to expand our perspective by asking questions. At Grace Farms\, we seek new outcomes on pressing humanitarian issues by breaking down silos and facilitating dialogue across sectors.” \n– Sharon Prince\, Grace Farms CEO and Founder \nImage courtesy the artist and 303 Gallery\, New York
URL:https://gracefarms.org/event/alicja-kwade-paraposition
LOCATION:Grace Farms\, CT
CATEGORIES:Nature,Community,Design for Freedom,Arts,Faith,Justice,Member,Children & Families,Architecture
ATTACH;FMTTYPE=image/png:https://gracefarms.org/wp-content/uploads/2025/04/ParaPosition-Web.png
END:VEVENT
END:VCALENDAR