BEGIN:VCALENDAR
VERSION:2.0
PRODID:-//Grace Farms - ECPv6.15.17.1//NONSGML v1.0//EN
CALSCALE:GREGORIAN
METHOD:PUBLISH
X-WR-CALNAME:Grace Farms
X-ORIGINAL-URL:https://gracefarms.org
X-WR-CALDESC:Events for Grace Farms
REFRESH-INTERVAL;VALUE=DURATION:PT1H
X-Robots-Tag:noindex
X-PUBLISHED-TTL:PT1H
BEGIN:VTIMEZONE
TZID:America/New_York
BEGIN:DAYLIGHT
TZOFFSETFROM:-0500
TZOFFSETTO:-0400
TZNAME:EDT
DTSTART:20250309T070000
END:DAYLIGHT
BEGIN:STANDARD
TZOFFSETFROM:-0400
TZOFFSETTO:-0500
TZNAME:EST
DTSTART:20251102T060000
END:STANDARD
BEGIN:DAYLIGHT
TZOFFSETFROM:-0500
TZOFFSETTO:-0400
TZNAME:EDT
DTSTART:20260308T070000
END:DAYLIGHT
BEGIN:STANDARD
TZOFFSETFROM:-0400
TZOFFSETTO:-0500
TZNAME:EST
DTSTART:20261101T060000
END:STANDARD
BEGIN:DAYLIGHT
TZOFFSETFROM:-0500
TZOFFSETTO:-0400
TZNAME:EDT
DTSTART:20270314T070000
END:DAYLIGHT
BEGIN:STANDARD
TZOFFSETFROM:-0400
TZOFFSETTO:-0500
TZNAME:EST
DTSTART:20271107T060000
END:STANDARD
END:VTIMEZONE
BEGIN:VEVENT
DTSTART;VALUE=DATE:20260220
DTEND;VALUE=DATE:20260221
DTSTAMP:20260419T154250
CREATED:20260218T163338Z
LAST-MODIFIED:20260218T163338Z
UID:10011390-1771545600-1771631999@gracefarms.org
SUMMARY:4 pm Commons Closure
DESCRIPTION:The Commons will close today\, Friday\, February 20th\, at 4 pm to accommodate tonight’s Polar Bear Picnic. Please place any orders before 3 pm. \nPurchase tickets to the Polar Bear Picnic.
URL:https://gracefarms.org/event/4-pm-commons-closure
LOCATION:Grace Farms\, CT
END:VEVENT
BEGIN:VEVENT
DTSTART;TZID=America/New_York:20260220T100000
DTEND;TZID=America/New_York:20260220T140000
DTSTAMP:20260419T154250
CREATED:20250627T191114Z
LAST-MODIFIED:20250627T191114Z
UID:10010155-1771581600-1771596000@gracefarms.org
SUMMARY:Winter Passport
DESCRIPTION:It’s a winter wonderland at Grace Farms! Families can enjoy special programming inspired by a cozy staycation. Pick up a passport at the Welcome Desk — or bring a passport from previous “vacations” at Grace Farms — and venture through the River building for wintertime activities. Collect stamps at each activity for a small treat. \nOn February 20\, join the Polar Bear Picnic\, and have breakfast for dinner! After enjoying a meal provided by Grace Farms’ culinary team\, take part in winter-inspired crafts and games.
URL:https://gracefarms.org/event/winter-passport/2026-02-20
LOCATION:Grace Farms\, CT
CATEGORIES:Children & Families
ATTACH;FMTTYPE=image/png:https://gracefarms.org/wp-content/uploads/2024/11/Winter-Week-2025-Hero.png
END:VEVENT
BEGIN:VEVENT
DTSTART;TZID=America/New_York:20260220T173000
DTEND;TZID=America/New_York:20260220T193000
DTSTAMP:20260419T154250
CREATED:20250701T150536Z
LAST-MODIFIED:20260219T164419Z
UID:10010157-1771608600-1771615800@gracefarms.org
SUMMARY:Polar Bear Picnic
DESCRIPTION:Join the Polar Bear Picnic\, and have breakfast for dinner! \nAfter enjoying a meal provided by Grace Farms’ culinary team\, take part in winter-inspired crafts and games. \nMenu: \n\nFrench Toast Casserole (vg)\nScrambled Eggs (vg) (gf)\nHome Fries (vg) (gf)\nCrispy Bacon (gf)\nFresh Fruit Salad (v) (vg) (gf) \n(v) = vegan | (vg) = vegetarian | (gf) = gluten free \n\n 
URL:https://gracefarms.org/event/polar-bear-picnic-2026
LOCATION:Grace Farms\, CT
CATEGORIES:Community,Children & Families
ATTACH;FMTTYPE=image/jpeg:https://gracefarms.org/wp-content/uploads/2024/11/Winter-2024-Visit-Hero.jpg
END:VEVENT
END:VCALENDAR