BEGIN:VCALENDAR
VERSION:2.0
PRODID:-//Grace Farms - ECPv6.15.17.1//NONSGML v1.0//EN
CALSCALE:GREGORIAN
METHOD:PUBLISH
X-WR-CALNAME:Grace Farms
X-ORIGINAL-URL:https://gracefarms.org
X-WR-CALDESC:Events for Grace Farms
REFRESH-INTERVAL;VALUE=DURATION:PT1H
X-Robots-Tag:noindex
X-PUBLISHED-TTL:PT1H
BEGIN:VTIMEZONE
TZID:America/New_York
BEGIN:DAYLIGHT
TZOFFSETFROM:-0500
TZOFFSETTO:-0400
TZNAME:EDT
DTSTART:20240310T070000
END:DAYLIGHT
BEGIN:STANDARD
TZOFFSETFROM:-0400
TZOFFSETTO:-0500
TZNAME:EST
DTSTART:20241103T060000
END:STANDARD
BEGIN:DAYLIGHT
TZOFFSETFROM:-0500
TZOFFSETTO:-0400
TZNAME:EDT
DTSTART:20250309T070000
END:DAYLIGHT
BEGIN:STANDARD
TZOFFSETFROM:-0400
TZOFFSETTO:-0500
TZNAME:EST
DTSTART:20251102T060000
END:STANDARD
BEGIN:DAYLIGHT
TZOFFSETFROM:-0500
TZOFFSETTO:-0400
TZNAME:EDT
DTSTART:20260308T070000
END:DAYLIGHT
BEGIN:STANDARD
TZOFFSETFROM:-0400
TZOFFSETTO:-0500
TZNAME:EST
DTSTART:20261101T060000
END:STANDARD
END:VTIMEZONE
BEGIN:VEVENT
DTSTART;TZID=America/New_York:20250725T100000
DTEND;TZID=America/New_York:20250725T160000
DTSTAMP:20260420T120554
CREATED:20250624T151950Z
LAST-MODIFIED:20250729T144232Z
UID:10009059-1753437600-1753459200@gracefarms.org
SUMMARY:Amazing Butterflies Exhibit
DESCRIPTION:Navigate the extraordinary metamorphosis of butterflies through an interactive indoor maze and traveling exhibit in Grace Farms’ Court\, created by The Natural History Museum in London in collaboration with Minotaur Mazes. Adventure through the leaves\, learn how to move like caterpillar\, discover an ant that reaps the reward of an unusual friendship\, then transform into a butterfly and take flight! \nDon’t miss this summer experience! \nGrace Farms is a celebrated Monarch Waystation\, a place that provides monarch butterflies the resources they need to survive and reproduce. Enjoy additional programming all summer that will enhance your connection to butterflies and other winged wonders\, including summer picnics\, Caterpillar Compass\, Magnifying Small Wonders\, Open Arts Studio\, Walk with Dragonflies\, and Look at Butterfly Life. \nPlease note: There are no live butterflies in this indoor exhibit.
URL:https://gracefarms.org/event/amazing-butterflies-exhibit-3/2025-07-25
LOCATION:Grace Farms\, CT
CATEGORIES:Children & Families
ATTACH;FMTTYPE=image/png:https://gracefarms.org/wp-content/uploads/2025/06/Amazing-Butterflies-v2-hero.png
END:VEVENT
BEGIN:VEVENT
DTSTART;TZID=America/New_York:20250725T173000
DTEND;TZID=America/New_York:20250725T193000
DTSTAMP:20260420T120554
CREATED:20250401T182440Z
LAST-MODIFIED:20250715T172718Z
UID:10008935-1753464600-1753471800@gracefarms.org
SUMMARY:Summer Picnic
DESCRIPTION:Enjoy an inspired picnic dinner crafted by the culinary team\, extended hours in the garden\, and activities designed by the education team that share the wonders of ladybugs\, dragonflies\, and butterflies. Inspired by the year’s theme\, Architecture Moves Us\, each iteration of the picnic series will reveal how these incredible insects contribute to the natural landscape enjoyed at Grace Farms. These small insects often go unnoticed\, but contribute significantly to a healthy ecosystem. \nSummer picnics also offer lawn games\, trail access\, and activities for the whole family. \nJuly Picnic Menu\nFalafel over Spinach and Orzo Salad\nwith marinated roasted red peppers\, crumbled feta cheese\, and roasted Moroccan chickpeas. Served with dill vinaigrette & pita bread. \nKids Snack Pack (gf) \n\nCheese sticks\nJuice box\nGluten-free crackers\nFruit salad\n\nSpecialty Cookie (gf)\nbaked by Grace Farms Pastry Chef Leah Jones
URL:https://gracefarms.org/event/summer-picnic-july-2025
LOCATION:Grace Farms\, CT
CATEGORIES:Nature,Community,Children & Families
ATTACH;FMTTYPE=image/png:https://gracefarms.org/wp-content/uploads/2025/03/Summer-Picnics-2025-hero.png
END:VEVENT
END:VCALENDAR