BEGIN:VCALENDAR
VERSION:2.0
PRODID:-//Grace Farms - ECPv6.15.17.1//NONSGML v1.0//EN
CALSCALE:GREGORIAN
METHOD:PUBLISH
X-WR-CALNAME:Grace Farms
X-ORIGINAL-URL:https://gracefarms.org
X-WR-CALDESC:Events for Grace Farms
REFRESH-INTERVAL;VALUE=DURATION:PT1H
X-Robots-Tag:noindex
X-PUBLISHED-TTL:PT1H
BEGIN:VTIMEZONE
TZID:America/New_York
BEGIN:DAYLIGHT
TZOFFSETFROM:-0500
TZOFFSETTO:-0400
TZNAME:EDT
DTSTART:20200308T070000
END:DAYLIGHT
BEGIN:STANDARD
TZOFFSETFROM:-0400
TZOFFSETTO:-0500
TZNAME:EST
DTSTART:20201101T060000
END:STANDARD
BEGIN:DAYLIGHT
TZOFFSETFROM:-0500
TZOFFSETTO:-0400
TZNAME:EDT
DTSTART:20210314T070000
END:DAYLIGHT
BEGIN:STANDARD
TZOFFSETFROM:-0400
TZOFFSETTO:-0500
TZNAME:EST
DTSTART:20211107T060000
END:STANDARD
BEGIN:DAYLIGHT
TZOFFSETFROM:-0500
TZOFFSETTO:-0400
TZNAME:EDT
DTSTART:20220313T070000
END:DAYLIGHT
BEGIN:STANDARD
TZOFFSETFROM:-0400
TZOFFSETTO:-0500
TZNAME:EST
DTSTART:20221106T060000
END:STANDARD
END:VTIMEZONE
BEGIN:VEVENT
DTSTART;TZID=America/New_York:20210914T120000
DTEND;TZID=America/New_York:20210914T130000
DTSTAMP:20260419T121327
CREATED:20210608T110326Z
LAST-MODIFIED:20210608T110326Z
UID:10000159-1631620800-1631624400@gracefarms.org
SUMMARY:Modern Muslim Theologywith Author Dr. Martin Nguyen
DESCRIPTION:LIVE ZOOM EVENT \n“Informed by his deep reading of scripture and the Islamic tradition\, as well as his grounding in the academic study of religion\, Nguyen offers a theology that is of interest to academics as well as to people of faith\, and to those who wish to learn more about Islam regardless of their orientation.” \n– Zayn Kassam\, Pomona College\n  \nJoin us for a conversation with Faith Initiative Director Dr. Matthew Croasmun and Dr. Martin Nguyen\, Professor of Religious Studies at Fairfield University to discuss his most recent book. Modern Muslim Theology asserts that theology is a creative\, ongoing process\, and offers refreshingly accessible perspective on practicing the Islamic tradition in our contemporary world. \nOur Books on Faith & Meaning series consists of monthly presentations introducing selections from the Faith & Meaning section of the Grace Farms Library. Spanning multiple religious and philosophical traditions\, both ancient and contemporary\, these texts encourage us to think critically about the meaning in our lives.
URL:https://gracefarms.org/event/books-on-faith-12
CATEGORIES:Faith
ATTACH;FMTTYPE=image/jpeg:https://gracefarms.org/wp-content/uploads/2020/01/Books_Faith_Meaning_CalendarHero2_Grace_Farms.jpg
END:VEVENT
END:VCALENDAR